BEGIN:VCALENDAR
VERSION:2.0
PRODID:-//The Branch On Milledge - ECPv6.15.20//NONSGML v1.0//EN
CALSCALE:GREGORIAN
METHOD:PUBLISH
X-WR-CALNAME:The Branch On Milledge
X-ORIGINAL-URL:https://branchonmilledge.com
X-WR-CALDESC:Events for The Branch On Milledge
REFRESH-INTERVAL;VALUE=DURATION:PT1H
X-Robots-Tag:noindex
X-PUBLISHED-TTL:PT1H
BEGIN:VTIMEZONE
TZID:America/New_York
BEGIN:DAYLIGHT
TZOFFSETFROM:-0500
TZOFFSETTO:-0400
TZNAME:EDT
DTSTART:20250309T070000
END:DAYLIGHT
BEGIN:STANDARD
TZOFFSETFROM:-0400
TZOFFSETTO:-0500
TZNAME:EST
DTSTART:20251102T060000
END:STANDARD
BEGIN:DAYLIGHT
TZOFFSETFROM:-0500
TZOFFSETTO:-0400
TZNAME:EDT
DTSTART:20260308T070000
END:DAYLIGHT
BEGIN:STANDARD
TZOFFSETFROM:-0400
TZOFFSETTO:-0500
TZNAME:EST
DTSTART:20261101T060000
END:STANDARD
BEGIN:DAYLIGHT
TZOFFSETFROM:-0500
TZOFFSETTO:-0400
TZNAME:EDT
DTSTART:20270314T070000
END:DAYLIGHT
BEGIN:STANDARD
TZOFFSETFROM:-0400
TZOFFSETTO:-0500
TZNAME:EST
DTSTART:20271107T060000
END:STANDARD
END:VTIMEZONE
BEGIN:VEVENT
DTSTART;VALUE=DATE:20260417
DTEND;VALUE=DATE:20260419
DTSTAMP:20260425T122642
CREATED:20260306T205120Z
LAST-MODIFIED:20260318T132039Z
UID:799-1776384000-1776556799@branchonmilledge.com
SUMMARY:Athens Annual Twilight Criterium
DESCRIPTION:Since 1980\, the Twilight has been more than a bike race. It’s been more than a weekend of fast-paced\, action-packed\, non-stop excitement in an inclusive and welcoming environment. The streets of Athens have come alive with the pulse of elite racing\, good vibes\, and a community-wide festival that brings together generations of fans and participants alike. The Twilight has been an enduring symbol of ALL THINGS ATHENS.
URL:https://branchonmilledge.com/event/athens-annual-twilight-criterium/
LOCATION:Streets of Downtown Athens\, Athens\, GA\, United States
CATEGORIES:Festival
END:VEVENT
BEGIN:VEVENT
DTSTART;VALUE=DATE:20260418
DTEND;VALUE=DATE:20260419
DTSTAMP:20260425T122642
CREATED:20260306T205950Z
LAST-MODIFIED:20260306T205950Z
UID:801-1776470400-1776556799@branchonmilledge.com
SUMMARY:UGA Football G-Day
DESCRIPTION:For Georgia Bulldogs football fans\, G-Day Game is the unofficial kickoff to football season. Held each spring at Sanford Stadium\, it’s a chance to be back Between the Hedges\, see the team in action after spring practices\, and get an early look at the players who will take the field this fall. In Athens\, it feels like a mini game day—complete with tailgating\, red and black everywhere\, and that familiar Bulldog excitement. 🐶🏈
URL:https://branchonmilledge.com/event/uga-football-g-day/
LOCATION:Sanford Stadium\, 100 Sanford Dr.\, Athens\, GA\, 30602\, United States
CATEGORIES:UGA Football
END:VEVENT
BEGIN:VEVENT
DTSTART;VALUE=DATE:20260424
DTEND;VALUE=DATE:20260425
DTSTAMP:20260425T122642
CREATED:20260306T204746Z
LAST-MODIFIED:20260306T204746Z
UID:796-1776988800-1777075199@branchonmilledge.com
SUMMARY:CAAMP Live on Tour with  Richy Mitch & The Coal Miners
DESCRIPTION:In support of their fifth album Copper Changes Color — which debuted at No. 1 on Billboard’s Americana/Folk chart and features the AAA Radio #1 hit “Mistakes” — the Athens\, OH-born band continues to push their signature folk sound into bold new territory\, blending raw vulnerability with indie rock energy. With over 2.5 billion global streams and a reputation as one of the most captivating live acts in modern music\, Caamp delivers a powerful\, heart-on-your-sleeve performance that celebrates growth\, connection\, and the beauty of change.
URL:https://branchonmilledge.com/event/caamp-live-on-tour-with-richy-mitch-the-coal-miners/
LOCATION:Akins Ford Arena\, 155 Hickory St\, Athens\, GA\, 30601\, United States
CATEGORIES:Concert
END:VEVENT
BEGIN:VEVENT
DTSTART;VALUE=DATE:20260425
DTEND;VALUE=DATE:20260426
DTSTAMP:20260425T122642
CREATED:20260306T210133Z
LAST-MODIFIED:20260306T210133Z
UID:803-1777075200-1777161599@branchonmilledge.com
SUMMARY:LIVE Between the Hedges with Luke Bryan and Jason Aldean
DESCRIPTION:Georgia natives Jason Aldean and Luke Bryan join fellow award-winning artists Zach Top and Lauren Alaina for the first Live Between the Hedges Concert Presented by PruittHealth\, set for April 25\, 2026\, on Dooley Field at Sanford Stadium.
URL:https://branchonmilledge.com/event/live-between-the-hedges-with-luke-bryan-and-jason-aldean/
LOCATION:Sanford Stadium\, 100 Sanford Dr.\, Athens\, GA\, 30602\, United States
CATEGORIES:Concert
END:VEVENT
BEGIN:VEVENT
DTSTART;VALUE=DATE:20260507
DTEND;VALUE=DATE:20260508
DTSTAMP:20260425T122642
CREATED:20260306T213306Z
LAST-MODIFIED:20260306T213405Z
UID:813-1778112000-1778198399@branchonmilledge.com
SUMMARY:UGA Graduate Commencement
DESCRIPTION:
URL:https://branchonmilledge.com/event/uga-graduate-commencement/
LOCATION:Stegeman Coliseum\, 100 Smith St.\, Athens\, GA\, 30605\, United States
CATEGORIES:UGA Schedule
END:VEVENT
BEGIN:VEVENT
DTSTART;VALUE=DATE:20260508
DTEND;VALUE=DATE:20260509
DTSTAMP:20260425T122642
CREATED:20260306T213225Z
LAST-MODIFIED:20260306T213225Z
UID:812-1778198400-1778284799@branchonmilledge.com
SUMMARY:UGA Undergraduate Commencement
DESCRIPTION:
URL:https://branchonmilledge.com/event/uga-undergraduate-commencement/
LOCATION:Sanford Stadium\, 100 Sanford Dr.\, Athens\, GA\, 30602\, United States
CATEGORIES:UGA Schedule
END:VEVENT
BEGIN:VEVENT
DTSTART;VALUE=DATE:20260626
DTEND;VALUE=DATE:20260629
DTSTAMP:20260425T122642
CREATED:20260306T210454Z
LAST-MODIFIED:20260306T210454Z
UID:805-1782432000-1782691199@branchonmilledge.com
SUMMARY:Annual AthFest
DESCRIPTION:AthFest is an annual free\, three-day festival that celebrates Athens\, GA’s vibrant creative culture\, featuring local and regional musicians and visual artists. Thousands of people flock to the streets of historic downtown Athens each AthFest to experience live music by artists from a variety of genres\, enjoy local artwork\, and soak up the vibe of one of America’s coolest cities. Locals mingle with out of towners while music fills the air and art\, food and fun fill the streets. \nThe festival includes three free outdoor stages with live music performances\, a block-long Artist Market with dozens of visual artists\, artisans and makers\, and a block-long KidsFest area to make sure even our youngest fans get in on the music and art fun! \nAfter the free outdoor stages wrap up Friday and Saturday nights\, the official AthFest Club Crawl kicks into gear. Music venues and clubs will host lineups filled with local music. \nAthFest raises money for the nonprofit AthFest Educates\, which awards grants to support music and arts education for K-12 students in Athens.
URL:https://branchonmilledge.com/event/annual-athfest/
LOCATION:Streets of Downtown Athens\, Athens\, GA\, United States
CATEGORIES:Concert,Festival
END:VEVENT
BEGIN:VEVENT
DTSTART;VALUE=DATE:20260809
DTEND;VALUE=DATE:20260811
DTSTAMP:20260425T122642
CREATED:20260306T212840Z
LAST-MODIFIED:20260306T212840Z
UID:811-1786233600-1786406399@branchonmilledge.com
SUMMARY:UGA Sorority PNM Move in
DESCRIPTION:
URL:https://branchonmilledge.com/event/uga-sorority-pnm-move-in/
LOCATION:University of Georgia\, Herty Dr.\, Athens\, GA\, 30605\, United States
CATEGORIES:UGA Schedule
END:VEVENT
BEGIN:VEVENT
DTSTART;VALUE=DATE:20260810
DTEND;VALUE=DATE:20260816
DTSTAMP:20260425T122642
CREATED:20260306T212055Z
LAST-MODIFIED:20260306T212055Z
UID:808-1786320000-1786838399@branchonmilledge.com
SUMMARY:UGA Panhellenic Sorority Rush 2026
DESCRIPTION:University of Georgia Panhellenic Recruitment is an exciting milestone that helps many students find their community on campus. Throughout the week\, potential new members visit different sorority houses\, meet current members\, and learn about each chapter’s values\, philanthropy\, and sisterhood. For many young women in Athens\, the experience becomes a meaningful way to build friendships\, get involved\, and create a strong support system during their college years. 💌🎓
URL:https://branchonmilledge.com/event/uga-panhellenic-sorority-rush-2026/
LOCATION:Milledge Avenue\, 420 S Milledge Ave.\, Athens\, GA\, 30605\, United States
CATEGORIES:UGA Schedule
END:VEVENT
BEGIN:VEVENT
DTSTART;VALUE=DATE:20260814
DTEND;VALUE=DATE:20260818
DTSTAMP:20260425T122642
CREATED:20260306T212736Z
LAST-MODIFIED:20260306T212736Z
UID:809-1786665600-1787011199@branchonmilledge.com
SUMMARY:UGA Freshman Move in
DESCRIPTION:
URL:https://branchonmilledge.com/event/uga-freshman-move-in/
LOCATION:University of Georgia\, Herty Dr.\, Athens\, GA\, 30605\, United States
CATEGORIES:UGA Schedule
END:VEVENT
BEGIN:VEVENT
DTSTART;VALUE=DATE:20260816
DTEND;VALUE=DATE:20260817
DTSTAMP:20260425T122642
CREATED:20260306T210737Z
LAST-MODIFIED:20260306T210737Z
UID:806-1786838400-1786924799@branchonmilledge.com
SUMMARY:UGA Bid Day 2026
DESCRIPTION:University of Georgia Panhellenic Bid Day is one of the most exciting traditions of the year on the campus of University of Georgia. After a week of recruitment\, thousands of new members open their bids to discover which sorority they’ll call home. The day is filled with celebration as new members run home to their chapters\, meet their sisters\, and kick off the start of their Greek life experience in Athens. It’s a high-energy day full of cheering\, themed outfits\, and unforgettable first memories in the sorority community. 💌🎉
URL:https://branchonmilledge.com/event/uga-bid-day-2026/
LOCATION:Milledge Avenue\, 420 S Milledge Ave.\, Athens\, GA\, 30605\, United States
CATEGORIES:UGA Schedule
END:VEVENT
END:VCALENDAR