BEGIN:VCALENDAR
VERSION:2.0
PRODID:-//The Branch On Milledge - ECPv6.15.20//NONSGML v1.0//EN
CALSCALE:GREGORIAN
METHOD:PUBLISH
X-ORIGINAL-URL:https://branchonmilledge.com
X-WR-CALDESC:Events for The Branch On Milledge
REFRESH-INTERVAL;VALUE=DURATION:PT1H
X-Robots-Tag:noindex
X-PUBLISHED-TTL:PT1H
BEGIN:VTIMEZONE
TZID:America/New_York
BEGIN:DAYLIGHT
TZOFFSETFROM:-0500
TZOFFSETTO:-0400
TZNAME:EDT
DTSTART:20250309T070000
END:DAYLIGHT
BEGIN:STANDARD
TZOFFSETFROM:-0400
TZOFFSETTO:-0500
TZNAME:EST
DTSTART:20251102T060000
END:STANDARD
BEGIN:DAYLIGHT
TZOFFSETFROM:-0500
TZOFFSETTO:-0400
TZNAME:EDT
DTSTART:20260308T070000
END:DAYLIGHT
BEGIN:STANDARD
TZOFFSETFROM:-0400
TZOFFSETTO:-0500
TZNAME:EST
DTSTART:20261101T060000
END:STANDARD
BEGIN:DAYLIGHT
TZOFFSETFROM:-0500
TZOFFSETTO:-0400
TZNAME:EDT
DTSTART:20270314T070000
END:DAYLIGHT
BEGIN:STANDARD
TZOFFSETFROM:-0400
TZOFFSETTO:-0500
TZNAME:EST
DTSTART:20271107T060000
END:STANDARD
END:VTIMEZONE
BEGIN:VEVENT
DTSTART;VALUE=DATE:20260425
DTEND;VALUE=DATE:20260426
DTSTAMP:20260425T122513
CREATED:20260306T210133Z
LAST-MODIFIED:20260306T210133Z
UID:803-1777075200-1777161599@branchonmilledge.com
SUMMARY:LIVE Between the Hedges with Luke Bryan and Jason Aldean
DESCRIPTION:Georgia natives Jason Aldean and Luke Bryan join fellow award-winning artists Zach Top and Lauren Alaina for the first Live Between the Hedges Concert Presented by PruittHealth\, set for April 25\, 2026\, on Dooley Field at Sanford Stadium.
URL:https://branchonmilledge.com/event/live-between-the-hedges-with-luke-bryan-and-jason-aldean/
LOCATION:Sanford Stadium\, 100 Sanford Dr.\, Athens\, GA\, 30602\, United States
CATEGORIES:Concert
END:VEVENT
END:VCALENDAR