BEGIN:VCALENDAR
VERSION:2.0
PRODID:-//The Branch On Milledge - ECPv6.15.20//NONSGML v1.0//EN
CALSCALE:GREGORIAN
METHOD:PUBLISH
X-ORIGINAL-URL:https://branchonmilledge.com
X-WR-CALDESC:Events for The Branch On Milledge
REFRESH-INTERVAL;VALUE=DURATION:PT1H
X-Robots-Tag:noindex
X-PUBLISHED-TTL:PT1H
BEGIN:VTIMEZONE
TZID:America/New_York
BEGIN:DAYLIGHT
TZOFFSETFROM:-0500
TZOFFSETTO:-0400
TZNAME:EDT
DTSTART:20250309T070000
END:DAYLIGHT
BEGIN:STANDARD
TZOFFSETFROM:-0400
TZOFFSETTO:-0500
TZNAME:EST
DTSTART:20251102T060000
END:STANDARD
BEGIN:DAYLIGHT
TZOFFSETFROM:-0500
TZOFFSETTO:-0400
TZNAME:EDT
DTSTART:20260308T070000
END:DAYLIGHT
BEGIN:STANDARD
TZOFFSETFROM:-0400
TZOFFSETTO:-0500
TZNAME:EST
DTSTART:20261101T060000
END:STANDARD
BEGIN:DAYLIGHT
TZOFFSETFROM:-0500
TZOFFSETTO:-0400
TZNAME:EDT
DTSTART:20270314T070000
END:DAYLIGHT
BEGIN:STANDARD
TZOFFSETFROM:-0400
TZOFFSETTO:-0500
TZNAME:EST
DTSTART:20271107T060000
END:STANDARD
END:VTIMEZONE
BEGIN:VEVENT
DTSTART;VALUE=DATE:20260424
DTEND;VALUE=DATE:20260425
DTSTAMP:20260425T122710
CREATED:20260306T204746Z
LAST-MODIFIED:20260306T204746Z
UID:796-1776988800-1777075199@branchonmilledge.com
SUMMARY:CAAMP Live on Tour with  Richy Mitch & The Coal Miners
DESCRIPTION:In support of their fifth album Copper Changes Color — which debuted at No. 1 on Billboard’s Americana/Folk chart and features the AAA Radio #1 hit “Mistakes” — the Athens\, OH-born band continues to push their signature folk sound into bold new territory\, blending raw vulnerability with indie rock energy. With over 2.5 billion global streams and a reputation as one of the most captivating live acts in modern music\, Caamp delivers a powerful\, heart-on-your-sleeve performance that celebrates growth\, connection\, and the beauty of change.
URL:https://branchonmilledge.com/event/caamp-live-on-tour-with-richy-mitch-the-coal-miners/
LOCATION:Akins Ford Arena\, 155 Hickory St\, Athens\, GA\, 30601\, United States
CATEGORIES:Concert
END:VEVENT
BEGIN:VEVENT
DTSTART;VALUE=DATE:20260328
DTEND;VALUE=DATE:20260329
DTSTAMP:20260425T122710
CREATED:20260306T210329Z
LAST-MODIFIED:20260306T210329Z
UID:804-1774656000-1774742399@branchonmilledge.com
SUMMARY:Jam For Cam
DESCRIPTION:Come gather on Washington Street in Downtown Athens\, Ga on March 28th 2026 for Jam In The Streets.  \nThe 2026 festival will feature an array of entertainment ranging from world-renown artists\, to local college bands\, multiple stages\, vendors\, food partners\, and interactive community activations. 100% of the proceeds support Jam For Cam’s mission: leverage the power of music to bring together community and fight melanoma through awareness\, education\, prevention\, and charitable support for research.
URL:https://branchonmilledge.com/event/jam-for-cam/
LOCATION:Streets of Downtown Athens\, Athens\, GA\, United States
CATEGORIES:Concert,Festival
END:VEVENT
BEGIN:VEVENT
DTSTART;TZID=America/New_York:20260319T200000
DTEND;TZID=America/New_York:20260319T223000
DTSTAMP:20260425T122710
CREATED:20260318T132316Z
LAST-MODIFIED:20260318T132346Z
UID:824-1773950400-1773959400@branchonmilledge.com
SUMMARY:Gov't Mule & Larkin Poe Concert
DESCRIPTION:Get ready for an unforgettable night as Gov’t Mule and Larkin Poe bring their blues-inspired\, rock-driven sound to The Classic Center Theatre. Don’t miss the chance to see one of your favorite bands live on stage!
URL:https://branchonmilledge.com/event/govt-mule-larkin-poe-concert/
LOCATION:The Classic Center\, 300 North Thomas Street\, Athens\, GA\, 30601\, United States
CATEGORIES:Concert
END:VEVENT
END:VCALENDAR