BEGIN:VCALENDAR
VERSION:2.0
PRODID:-//The Branch On Milledge - ECPv6.15.20//NONSGML v1.0//EN
CALSCALE:GREGORIAN
METHOD:PUBLISH
X-WR-CALNAME:The Branch On Milledge
X-ORIGINAL-URL:https://branchonmilledge.com
X-WR-CALDESC:Events for The Branch On Milledge
REFRESH-INTERVAL;VALUE=DURATION:PT1H
X-Robots-Tag:noindex
X-PUBLISHED-TTL:PT1H
BEGIN:VTIMEZONE
TZID:America/New_York
BEGIN:DAYLIGHT
TZOFFSETFROM:-0500
TZOFFSETTO:-0400
TZNAME:EDT
DTSTART:20250309T070000
END:DAYLIGHT
BEGIN:STANDARD
TZOFFSETFROM:-0400
TZOFFSETTO:-0500
TZNAME:EST
DTSTART:20251102T060000
END:STANDARD
BEGIN:DAYLIGHT
TZOFFSETFROM:-0500
TZOFFSETTO:-0400
TZNAME:EDT
DTSTART:20260308T070000
END:DAYLIGHT
BEGIN:STANDARD
TZOFFSETFROM:-0400
TZOFFSETTO:-0500
TZNAME:EST
DTSTART:20261101T060000
END:STANDARD
BEGIN:DAYLIGHT
TZOFFSETFROM:-0500
TZOFFSETTO:-0400
TZNAME:EDT
DTSTART:20270314T070000
END:DAYLIGHT
BEGIN:STANDARD
TZOFFSETFROM:-0400
TZOFFSETTO:-0500
TZNAME:EST
DTSTART:20271107T060000
END:STANDARD
END:VTIMEZONE
BEGIN:VEVENT
DTSTART;VALUE=DATE:20260417
DTEND;VALUE=DATE:20260419
DTSTAMP:20260425T103529
CREATED:20260306T205120Z
LAST-MODIFIED:20260318T132039Z
UID:799-1776384000-1776556799@branchonmilledge.com
SUMMARY:Athens Annual Twilight Criterium
DESCRIPTION:Since 1980\, the Twilight has been more than a bike race. It’s been more than a weekend of fast-paced\, action-packed\, non-stop excitement in an inclusive and welcoming environment. The streets of Athens have come alive with the pulse of elite racing\, good vibes\, and a community-wide festival that brings together generations of fans and participants alike. The Twilight has been an enduring symbol of ALL THINGS ATHENS.
URL:https://branchonmilledge.com/event/athens-annual-twilight-criterium/
LOCATION:Streets of Downtown Athens\, Athens\, GA\, United States
CATEGORIES:Festival
END:VEVENT
BEGIN:VEVENT
DTSTART;VALUE=DATE:20260418
DTEND;VALUE=DATE:20260419
DTSTAMP:20260425T103529
CREATED:20260306T205950Z
LAST-MODIFIED:20260306T205950Z
UID:801-1776470400-1776556799@branchonmilledge.com
SUMMARY:UGA Football G-Day
DESCRIPTION:For Georgia Bulldogs football fans\, G-Day Game is the unofficial kickoff to football season. Held each spring at Sanford Stadium\, it’s a chance to be back Between the Hedges\, see the team in action after spring practices\, and get an early look at the players who will take the field this fall. In Athens\, it feels like a mini game day—complete with tailgating\, red and black everywhere\, and that familiar Bulldog excitement. 🐶🏈
URL:https://branchonmilledge.com/event/uga-football-g-day/
LOCATION:Sanford Stadium\, 100 Sanford Dr.\, Athens\, GA\, 30602\, United States
CATEGORIES:UGA Football
END:VEVENT
END:VCALENDAR